BEGIN:VCALENDAR
VERSION:2.0
PRODID:-//Grand Niagara Golf Club - ECPv6.15.18//NONSGML v1.0//EN
CALSCALE:GREGORIAN
METHOD:PUBLISH
X-WR-CALNAME:Grand Niagara Golf Club
X-ORIGINAL-URL:https://www.grandniagaragolf.com
X-WR-CALDESC:Events for Grand Niagara Golf Club
REFRESH-INTERVAL;VALUE=DURATION:PT1H
X-Robots-Tag:noindex
X-PUBLISHED-TTL:PT1H
BEGIN:VTIMEZONE
TZID:UTC
BEGIN:STANDARD
TZOFFSETFROM:+0000
TZOFFSETTO:+0000
TZNAME:UTC
DTSTART:20220101T000000
END:STANDARD
END:VTIMEZONE
BEGIN:VEVENT
DTSTART;VALUE=DATE:20230719
DTEND;VALUE=DATE:20230720
DTSTAMP:20260424T162836
CREATED:20230719T140129Z
LAST-MODIFIED:20230719T140129Z
UID:10000026-1689724800-1689811199@www.grandniagaragolf.com
SUMMARY:Golf Tournament
DESCRIPTION:
URL:https://www.grandniagaragolf.com/event/golf-tournament/2023-07-19/
END:VEVENT
BEGIN:VEVENT
DTSTART;TZID=UTC:20230714T080000
DTEND;TZID=UTC:20230714T170000
DTSTAMP:20260424T162836
CREATED:20230714T015743Z
LAST-MODIFIED:20230714T015743Z
UID:10000001-1689321600-1689354000@www.grandniagaragolf.com
SUMMARY:Men's League
DESCRIPTION:
URL:https://www.grandniagaragolf.com/event/mens-league/2023-07-14/
END:VEVENT
END:VCALENDAR